BEGIN:VCALENDAR
VERSION:2.0
PRODID:-// - ECPv6.15.20//NONSGML v1.0//EN
CALSCALE:GREGORIAN
METHOD:PUBLISH
X-ORIGINAL-URL:https://dajer.hu
X-WR-CALDESC:Események 
REFRESH-INTERVAL;VALUE=DURATION:PT1H
X-Robots-Tag:noindex
X-PUBLISHED-TTL:PT1H
BEGIN:VTIMEZONE
TZID:UTC
BEGIN:STANDARD
TZOFFSETFROM:+0000
TZOFFSETTO:+0000
TZNAME:UTC
DTSTART:20250101T000000
END:STANDARD
END:VTIMEZONE
BEGIN:VEVENT
DTSTART;TZID=UTC:20260424T180000
DTEND;TZID=UTC:20260424T220000
DTSTAMP:20260424T095610
CREATED:20260414T184327Z
LAST-MODIFIED:20260420T194814Z
UID:11464-1777053600-1777068000@dajer.hu
SUMMARY:Búra\, krémes\, rezsó_HINTS
DESCRIPTION:Az esemény a Hints Institute for Public Art: Előre a meglepetésekkel teli hétköznapokért! című kiállítás városi kísérőrendezvénye.\nA rendezvényen való részvétel ingyenes!\n***\nBúra\, krémes\, rezsó.Három fogalom\, melyeknek első olvasásra semmi közük egymáshoz. Három fogalom\, melyek között mégiscsak könnyű kapcsolatot teremteni\, ha a hétköznapok felől tekintünk rájuk. Ezen az estén ezt tesszük majd: a Hints Institute for Public Art tagjainak eseményén a Dajer Szellemi Műhely terében.\n \n„A tér\, amelyben mozgunk nem pusztán tárgyak kölcsönös helyzeteinek halmaza\, s nem csak díszlete a mindennapjainknak\, de rendezője” – így kezdődik az „Előre a meglepetésekkel teli hétköznapokért” című kiállítás felvezetője a Budapest Galériában. A Dajer Szellemi Műhelyben erősebbé válik a nők jelenléte és köztér szerepe.\n \nKépek\, hangok és főzés. Az este során beüzemeljük a Dajer búráit\, Ilauszky Irma és Ilauszky Tamás hang és film alkotásával\, a falakon Pál Zsuzsanna Rebeka vetített képeivel\, közben pedig egy közösségi főzés illata csalogatja az embereket utcáról: mert Tamás főz. Irma zenél. És beszélgetünk: az életről\, a művészetről\, a HINTS-ről és minden bizonnyal Szabó Eszter Ágnesről is.\n18 órától indul a búrákban a zene!\nTartsatok velünk!\nA HINTS tagjai: Bálint Mónika\, Ilauszky Tamás\, Pál Zsuzsanna Rebeka\, Szabó Eszter Ágnes (1966-2024) és Szövényi Anikó.\n \n——————————————————————–\nHINTS Institute for Public ArtElőre a meglepetésekkel teli hétköznapokért!\nBudapest Galéria | 1036 Budapest\, Lajos utca 158. (emelet)2026. 02. 13. – 2026. 05. 03.\n \nKiállító művészek: BÁLINT Mónika\, ILAUSZKY Irma\, ILAUSZKY Tamás\, PÁL Zsuzsanna Rebeka\, SZABÓ Eszter Ágnes\, SZÖVÉNYI Anikó és további közreműködők\n \nKoordinátor:SZÁSZ Anna Lujza\n \nA HINTS Institute for Public Art című kiállítás célja\, hogy hozzájáruljon a 2000-es évek Magyarországán zajló köztéri művészet történetének feltérképezéséhez\, rákérdezzen hagyományaira\, művészetfelfogására\, különös tekintettel a nők jelenlétére\, szerepére a városi nyilvános terek alakításában. Ez a történet nem tekinthető koherensen feltárt és dokumentált narratívának. A kiállítás e narratíva új elemekkel való kiegészítésére tesz kísérletet a részben feledésbe merült tudások\, emlékezetek újrarendezésével és láthatóvá tételével\, hangsúlyozva annak jelentőségét\, hogy a művészet és a nyilvános terek jelenkori kapcsolódásának megértéséhez elengedhetetlen a történeti alapok\, az egykoron megvalósult művészeti gyakorlatok ismerete.\n \nA kiállítás középpontjában a 2001 és 2010 között Budapesten működő HINTS Institute for Public Art munkássága áll\, ami egy többségében nőkből álló művészeti kollektíva volt. A vizsgálódás rajtuk keresztül\, az ő segítségükkel történik. A HINTS-re vonatkozó ismeretanyag töredezettsége önmagában is tünetértékű\, amennyiben nem pusztán gyakorlati hiányként\, hanem a tudástermelés\, az archiválás és a kanonizáció strukturális hiányosságaiként is értelmezhető. Mindezek fakadhatnak a 2000-es évek technológiai infrastruktúrájának kezdetlegességéből\, az archiválási kényszer hiányából\, az intézményesülésre való képtelenségből\, a köztéri művészeti projektek természetéből\, valamint abból a társadalmi felépítményből\, amelyben a férfi alkotók érvényesülése támogatottabb.\n \nA HINTS tagjai képzőművészek\, szociológusok: Bálint Mónika\, Ilauszky Tamás\, Pál Zsuzsanna Rebeka\, Szabó Eszter Ágnes (1966 – 2024) és Szövényi Anikó. A kétezres évek Magyarországán úttörőnek bizonyultak abban\, hogy az intézmények falain kívül merészkedve\, a nyilvános térbe való belépéssel a képzőművészet mindennapiságát\, hozzáférhetőségét hangsúlyozták. Tevékenységüket nagyban meghatározta a teret a kapitalista kontroll alól forradalmi kreativitással felszabadító szituacionista mozgalom\, a kritikai kultúrakutatás\, illetve\, különösen tevékenységük második felétől\, Szabó Eszter Ágnes gondolatai\, alkotói eszközei. Alapelveik többek között az újrahasznosítás\, játékosság\, kritikaiság\, közösségiség és részvételiség voltak. Munkáik egy része alternatív nyilvánosságot teremtett vagy a nyilvánosságba jutás alternatív módjaira tett javaslatot\, más projektjeik a társadalmi környezet egyes jelenségeire világítottak rá az érintettek bevonásával. Emellett céljuk volt megkérdőjelezni az egyének privát és nyilvános terekhez való viszonyát; motiválni az ott formálódó közösségeket; feloldani a különböző terek berögződött határait.\n \nAz eseményen kép- és videófelvétel készülhet. Részvételével Ön hozzájárul ahhoz\, hogy a Budapest Galéria a felvételeket közösségi média felületein és honlapján felhasználja. Hozzájárulását az info@budapestgaleria.hu címen bármikor visszavonhatja.
URL:https://dajer.hu/event/bura-kremes-rezso_hints
LOCATION:Dajer Alapítvány – Dajer Közösségi Szellemi Műhely\, Dajer Alapítvány - Dajer Közösségi Szellemi Műhely - Horváth Mihály tér 5.\, Budapest\, 1082\, Hungary
CATEGORIES:Események
ATTACH;FMTTYPE=image/jpeg:https://dajer.hu/wp-content/uploads/2026/04/bura-kremes.jpg
END:VEVENT
END:VCALENDAR