BEGIN:VCALENDAR
VERSION:2.0
PRODID:-// - ECPv6.15.20//NONSGML v1.0//EN
CALSCALE:GREGORIAN
METHOD:PUBLISH
X-ORIGINAL-URL:https://dajer.hu
X-WR-CALDESC:Események 
REFRESH-INTERVAL;VALUE=DURATION:PT1H
X-Robots-Tag:noindex
X-PUBLISHED-TTL:PT1H
BEGIN:VTIMEZONE
TZID:UTC
BEGIN:STANDARD
TZOFFSETFROM:+0000
TZOFFSETTO:+0000
TZNAME:UTC
DTSTART:20250101T000000
END:STANDARD
END:VTIMEZONE
BEGIN:VEVENT
DTSTART;TZID=UTC:20260410T170000
DTEND;TZID=UTC:20260410T193000
DTSTAMP:20260421T110557
CREATED:20260328T235857Z
LAST-MODIFIED:20260328T235857Z
UID:11430-1775840400-1775849400@dajer.hu
SUMMARY:A VÁGY EVOLÚCIÓJA_kreatív workshop
DESCRIPTION:Honnan bújik elő és mivé formálja az idő? Mi az\, ami kifakul az évek alatt és mi az\, ami olyan méretűvé duzzad\, hogy átveszi felettünk az irányítást? Hogyan változik\, ahogy megéljük és hogyan változunk mi\, amikor megéljük?\n135 percben és 360 fokban járjuk körbe a vágyat és annak tárgyait. Lesz beszélgetés\, kollázs kártya\, utazás befelé és kérdések kifelé.\n \nMI FOG TÖRTÉNNI A WORKSHOPON\nA workshop első felében Péter Edit\, pszichológussal beszélgetünk arról\, hogy a vágy milyen utat jár be egy nő életében\, hány arca van és milyen kérdések segítenek megérteni önmagunkat mindeközben. Ezeket a gondolatokat aztán Kovács Andrea Kurszán kollázs kártyáival dolgozzuk fel\, irányított játékokkal\, úgy\, hogy a megszülető gondolatokkal\, ötletekkel\, történetekkel érzésekkel a résztvevők magukban is tovább tudjanak dolgozni.\n \nAKIK A WORKSHOPOT TARTJÁK\n \nPéter Edit\, pszichológusTöbbféle terápiás módszerrel dolgozik és kíséri a hozzá fordulókat évtizedek óta\, munkájában fontos szerepet kap a test és a lélek kapcsolata. Célja\, hogy a kliensei közelebb kerüljenek önmagukhoz és saját megoldásaikhoz.\n \nKovács Andrea Kurszán\, kollázsművész Szövegekkel 20 éve\, képekkel 11 éve dolgozik\, és ezekből állította össze SODÉ kollázs kártyáját\, ami elsősorban abban segít\, hogy egyedül vagy másokkal együtt új nézőpontokat találhasson a használója\, és ki tudjon lépni a megszokott gondolkodási keretekből.\n \nA részvétel adományalapú\, az adománnyal a DAJER Alapítványt támogatjátok.\nRegisztráció: https://tinyurl.com/avagyevolucioja\nIdőpont: Április 10. 17:00 – 19:30 Maximális létszám: 10 főHelyszín: DAJER Közösségi Műhely\, 1082 Budapest\, Horváth Mihály tér 5.\nAz eseményen fotó és videó felvétel készülhet (hanganyag nem készül). \n 
URL:https://dajer.hu/event/a-vagy-evolucioja_kreativ-workshop
LOCATION:Dajer Alapítvány – Dajer Közösségi Szellemi Műhely\, Dajer Alapítvány - Dajer Közösségi Szellemi Műhely - Horváth Mihály tér 5.\, Budapest\, 1082\, Hungary
CATEGORIES:Események
ATTACH;FMTTYPE=image/jpeg:https://dajer.hu/wp-content/uploads/2026/03/FLOTTA-NAPLO_FINAL_Page_14.jpg
ORGANIZER;CN="Dajer Alap%C3%ADtv%C3%A1ny a negyven feletti n%C5%91k t%C3%A1rsadalmi l%C3%A1that%C3%B3s%C3%A1g%C3%A1%C3%A9rt":MAILTO:info@dajer.hu
END:VEVENT
BEGIN:VEVENT
DTSTART;TZID=UTC:20260412T190000
DTEND;TZID=UTC:20260413T050000
DTSTAMP:20260421T110557
CREATED:20260402T175734Z
LAST-MODIFIED:20260402T180310Z
UID:11446-1776020400-1776056400@dajer.hu
SUMMARY:A nők hangja a szelek torka / eredményváró a Dajerben!
DESCRIPTION:Ha nem akarsz otthon egyedül sírni vagy nevetni\, akkor gyere a Dajerbe az eredményvárónkra!\nKieresztjük a torkunk\, hadd hallják a hangunk!\n \n\nA buli batyus\, hozz inni\, enni\, a hangulat garantált. \nCsekkolj be!\nEsemény oldal a Facebookon: \n\n \nThe Time is Now https://www.youtube.com/watch?v=-GY9DWIfpwc\n \nA zenéket rakja: SelektorKAKezdés: 19.00 Tart: hát meglátjuk
URL:https://dajer.hu/event/a-nok-hangja-a-szelek-torka-eredmenyvaro-a-dajerben
LOCATION:Dajer Alapítvány – Dajer Közösségi Szellemi Műhely\, Dajer Alapítvány - Dajer Közösségi Szellemi Műhely - Horváth Mihály tér 5.\, Budapest\, 1082\, Hungary
CATEGORIES:Események
ATTACH;FMTTYPE=image/png:https://dajer.hu/wp-content/uploads/2026/04/A-nok-hangja-a-szelek-torka-eredmenyvaro-a-Dajerben-2-scaled.png
ORGANIZER;CN="Dajer Alap%C3%ADtv%C3%A1ny a negyven feletti n%C5%91k t%C3%A1rsadalmi l%C3%A1that%C3%B3s%C3%A1g%C3%A1%C3%A9rt":MAILTO:info@dajer.hu
END:VEVENT
BEGIN:VEVENT
DTSTART;TZID=UTC:20260424T180000
DTEND;TZID=UTC:20260424T220000
DTSTAMP:20260421T110557
CREATED:20260414T184327Z
LAST-MODIFIED:20260420T194814Z
UID:11464-1777053600-1777068000@dajer.hu
SUMMARY:Búra\, krémes\, rezsó_HINTS
DESCRIPTION:Az esemény a Hints Institute for Public Art: Előre a meglepetésekkel teli hétköznapokért! című kiállítás városi kísérőrendezvénye.\nA rendezvényen való részvétel ingyenes!\n***\nBúra\, krémes\, rezsó.Három fogalom\, melyeknek első olvasásra semmi közük egymáshoz. Három fogalom\, melyek között mégiscsak könnyű kapcsolatot teremteni\, ha a hétköznapok felől tekintünk rájuk. Ezen az estén ezt tesszük majd: a Hints Institute for Public Art tagjainak eseményén a Dajer Szellemi Műhely terében.\n \n„A tér\, amelyben mozgunk nem pusztán tárgyak kölcsönös helyzeteinek halmaza\, s nem csak díszlete a mindennapjainknak\, de rendezője” – így kezdődik az „Előre a meglepetésekkel teli hétköznapokért” című kiállítás felvezetője a Budapest Galériában. A Dajer Szellemi Műhelyben erősebbé válik a nők jelenléte és köztér szerepe.\n \nKépek\, hangok és főzés. Az este során beüzemeljük a Dajer búráit\, Ilauszky Irma és Ilauszky Tamás hang és film alkotásával\, a falakon Pál Zsuzsanna Rebeka vetített képeivel\, közben pedig egy közösségi főzés illata csalogatja az embereket utcáról: mert Tamás főz. Irma zenél. És beszélgetünk: az életről\, a művészetről\, a HINTS-ről és minden bizonnyal Szabó Eszter Ágnesről is.\n18 órától indul a búrákban a zene!\nTartsatok velünk!\nA HINTS tagjai: Bálint Mónika\, Ilauszky Tamás\, Pál Zsuzsanna Rebeka\, Szabó Eszter Ágnes (1966-2024) és Szövényi Anikó.\n \n——————————————————————–\nHINTS Institute for Public ArtElőre a meglepetésekkel teli hétköznapokért!\nBudapest Galéria | 1036 Budapest\, Lajos utca 158. (emelet)2026. 02. 13. – 2026. 05. 03.\n \nKiállító művészek: BÁLINT Mónika\, ILAUSZKY Irma\, ILAUSZKY Tamás\, PÁL Zsuzsanna Rebeka\, SZABÓ Eszter Ágnes\, SZÖVÉNYI Anikó és további közreműködők\n \nKoordinátor:SZÁSZ Anna Lujza\n \nA HINTS Institute for Public Art című kiállítás célja\, hogy hozzájáruljon a 2000-es évek Magyarországán zajló köztéri művészet történetének feltérképezéséhez\, rákérdezzen hagyományaira\, művészetfelfogására\, különös tekintettel a nők jelenlétére\, szerepére a városi nyilvános terek alakításában. Ez a történet nem tekinthető koherensen feltárt és dokumentált narratívának. A kiállítás e narratíva új elemekkel való kiegészítésére tesz kísérletet a részben feledésbe merült tudások\, emlékezetek újrarendezésével és láthatóvá tételével\, hangsúlyozva annak jelentőségét\, hogy a művészet és a nyilvános terek jelenkori kapcsolódásának megértéséhez elengedhetetlen a történeti alapok\, az egykoron megvalósult művészeti gyakorlatok ismerete.\n \nA kiállítás középpontjában a 2001 és 2010 között Budapesten működő HINTS Institute for Public Art munkássága áll\, ami egy többségében nőkből álló művészeti kollektíva volt. A vizsgálódás rajtuk keresztül\, az ő segítségükkel történik. A HINTS-re vonatkozó ismeretanyag töredezettsége önmagában is tünetértékű\, amennyiben nem pusztán gyakorlati hiányként\, hanem a tudástermelés\, az archiválás és a kanonizáció strukturális hiányosságaiként is értelmezhető. Mindezek fakadhatnak a 2000-es évek technológiai infrastruktúrájának kezdetlegességéből\, az archiválási kényszer hiányából\, az intézményesülésre való képtelenségből\, a köztéri művészeti projektek természetéből\, valamint abból a társadalmi felépítményből\, amelyben a férfi alkotók érvényesülése támogatottabb.\n \nA HINTS tagjai képzőművészek\, szociológusok: Bálint Mónika\, Ilauszky Tamás\, Pál Zsuzsanna Rebeka\, Szabó Eszter Ágnes (1966 – 2024) és Szövényi Anikó. A kétezres évek Magyarországán úttörőnek bizonyultak abban\, hogy az intézmények falain kívül merészkedve\, a nyilvános térbe való belépéssel a képzőművészet mindennapiságát\, hozzáférhetőségét hangsúlyozták. Tevékenységüket nagyban meghatározta a teret a kapitalista kontroll alól forradalmi kreativitással felszabadító szituacionista mozgalom\, a kritikai kultúrakutatás\, illetve\, különösen tevékenységük második felétől\, Szabó Eszter Ágnes gondolatai\, alkotói eszközei. Alapelveik többek között az újrahasznosítás\, játékosság\, kritikaiság\, közösségiség és részvételiség voltak. Munkáik egy része alternatív nyilvánosságot teremtett vagy a nyilvánosságba jutás alternatív módjaira tett javaslatot\, más projektjeik a társadalmi környezet egyes jelenségeire világítottak rá az érintettek bevonásával. Emellett céljuk volt megkérdőjelezni az egyének privát és nyilvános terekhez való viszonyát; motiválni az ott formálódó közösségeket; feloldani a különböző terek berögződött határait.\n \nAz eseményen kép- és videófelvétel készülhet. Részvételével Ön hozzájárul ahhoz\, hogy a Budapest Galéria a felvételeket közösségi média felületein és honlapján felhasználja. Hozzájárulását az info@budapestgaleria.hu címen bármikor visszavonhatja.
URL:https://dajer.hu/event/bura-kremes-rezso_hints
LOCATION:Dajer Alapítvány – Dajer Közösségi Szellemi Műhely\, Dajer Alapítvány - Dajer Közösségi Szellemi Műhely - Horváth Mihály tér 5.\, Budapest\, 1082\, Hungary
CATEGORIES:Események
ATTACH;FMTTYPE=image/jpeg:https://dajer.hu/wp-content/uploads/2026/04/bura-kremes.jpg
END:VEVENT
BEGIN:VEVENT
DTSTART;VALUE=DATE:20260425
DTEND;VALUE=DATE:20260426
DTSTAMP:20260421T110557
CREATED:20260414T190640Z
LAST-MODIFIED:20260414T190803Z
UID:11466-1777075200-1777161599@dajer.hu
SUMMARY:Civil nap a Horváth Mihály téren
DESCRIPTION:
URL:https://dajer.hu/event/civil-nap-a-horvath-mihaly-teren
LOCATION:Budapest Horváth Mihály tér\, Horváth Mihály tér\, Budapest\, 1082
CATEGORIES:Események
END:VEVENT
BEGIN:VEVENT
DTSTART;VALUE=DATE:20260427
DTEND;VALUE=DATE:20260507
DTSTAMP:20260421T110557
CREATED:20260420T200249Z
LAST-MODIFIED:20260420T201328Z
UID:11488-1777248000-1778111999@dajer.hu
SUMMARY:Dash Khatami: Jelenetek engedély nélkül
DESCRIPTION:A kiállítás a Dajer Szellemi Műhely terében egy hétig látogatható.2026. 04. 27 – 2026. 05. 06Cím: Horváth Mihály tér 5.\, Budapest\, Hungary\, 1085A tárlatvezetés időpontját a későbbiekben írjuk meg. \n\nDash Khatami: Jelenetek engedély nélkül\nA kiállítást megnyitja Csoszó Gabriella\, a McDaniel College óraadó oktatója / Digital Photography\n \nEz a munka a megélt tapasztalatokból\, az emlékekből és a mai Irán politikai valóságából született. A fotográfia eszközeivel próbálok utat találni a dokumentarizmus és a személyes vallomás közötti törékeny határon\, ahol a test egyszerre válik tanúvá és bizonyítékká.\n \nA projekt három\, egymásba fonódó vizuális szálból áll.\nAz első egy tüntetés túlélőjének sebzett testére fókuszál: a fiatal nő hegei az állami erőszak lenyomatai. Ezek a képek nem hatásvadászok\, sokkal inkább a túlélés néma szívósságával és az ellenállás árával szembesítik a nézőt. A test itt a trauma és a dac színtere.\nA második sorozat Irán őslakos közösségeinek portréin keresztül a jelenlétet\, az identitást és a folytonosságot hangsúlyozza. Szemben a hivatalos narratívákkal\, amelyek gyakran elhallgatják vagy egybemossák ezeket a csoportokat\, e portrék célja az egyéni méltóság visszaállítása\, minden arcot saját kulturális és történelmi kontextusába helyezve.\nA harmadik egység szimbolikus\, a hiányt megragadó tájképekből áll. Köztük egy sivatagban hagyott\, fáslikkal körbetekert\, haldokló tehén képe jelenik meg metaforikus önarcképként. A kirekesztettség\, a sebezhetőség és a rákényszerített szenvedés érzését hordozza\, miközben a zord környezetben való kitartásra is utal. Itt a táj nem díszlet\, hanem a történet aktív szereplője.\n \nEzek a képek egy töredezett\, mégis összeálló történetet mesélnek az erőszakról\, az önazonosságról és a túlélésről. Alkotóként egyszerre vagyok megfigyelő és résztvevő – engem is ugyanazok a körülmények formáltak\, amelyeket megmutatni igyekszem. A munka nem ad kész válaszokat; arra hívja a nézőt\, hogy maradjon meg ebben a kényelmetlen állapotban\, váljon tanúvá\, és kérdőjelezze meg a rendszereket\, amelyek létrehozzák ezt a valóságot.\n \nDash Khatami 28 éves iráni művész\, jelenleg Budapesten él. Iránban angol irodalmat tanult\, most pedig a McDaniel College Budapest művészettörténet és szabad bölcsészet (Studio Arts) szakos hallgatója.Alkotói gyakorlata a fotográfiában gyökerezik\, amelyet kezdetben autodidakta módon\, munkája során sajátított el\, majd tudását egy iráni szakmai egyetemen és számos nemzetközi kurzuson mélyítette el. Munkáira saját élményei és a társadalmi-politikai környezet hatnak a legerősebben. Képeiben a dokumentarista látásmód szimbolikus és konceptuális elemekkel keveredik\, miközben az identitás\, az erőszak\, az emlékezet és a túlélés témáit kutatja.\n—————————————————————-\nDash Khatami: Scenes without permission\nThe exhibition will be opened by Gabriella Csoszó\, Lecturer at McDaniel College / Digital Photography.\nThis body of work emerges from lived experience\, memory\, and the political reality of contemporary Iran. Through photography\, I attempt to navigate the fragile boundary between documentation and personal testimony\, where the body becomes both witness and evidence.\nThe project includes three interconnected visual threads.\nThe first focuses on the wounded body of a protest survivor—a young woman whose physical scars carry the imprint of state violence. These images do not seek to sensationalize\, but rather to confront the viewer with the quiet persistence of survival\, and the cost of resistance under systems of control. The body here becomes a site of both trauma and defiance.\nThe second series presents portraits of Indigenous people of Iran\, emphasizing presence\, identity\, and continuity. In contrast to dominant narratives that erase or homogenize\, these portraits aim to restore individuality and dignity\, situating each subject within a broader cultural and historical context.\nThe final visual element consists of landscapes marked by absence and symbolism. Among them\, the image of a dying cow—bandaged and abandoned in the desert—functions as a metaphorical self-portrait. It reflects a sense of displacement\, vulnerability\, and imposed suffering\, while also pointing to endurance in a harsh and indifferent environment. The landscape is not merely a backdrop\, but an active participant in the narrative.\nTogether\, these images form a fragmented yet interconnected story about violence\, identity\, and survival. They reflect my position as both observer and participant—someone shaped by the same conditions I attempt to depict. Rather than offering clear answers\, the work invites viewers to sit with discomfort\, to witness\, and to question the structures that produce such realities.\n \nDash Khatami is a 28-year-old Iranian artist currently based in Budapest. He studied English Literature in Iran and is now completing his degree in Art History and Studio Arts at McDaniel College Budapest.\nHis practice is rooted in photography\, which he initially learned through hands-on experience with peers while working as a photographer. He later expanded his technical and conceptual knowledge through a professional photography program at an Iranian vocational university\, as well as multiple online courses in photography\, videography\, and editing.\nKhatami’s work is deeply influenced by his personal experiences and socio-political environment. His images often explore themes of identity\, violence\, memory\, and survival\, blending documentary approaches with symbolic and conceptual elements.\ncurator and mentor: Gabriella Csoszó
URL:https://dajer.hu/event/dash-khatami-jelenetek-engedely-nelkul
LOCATION:Dajer Alapítvány – Dajer Közösségi Szellemi Műhely\, Dajer Alapítvány - Dajer Közösségi Szellemi Műhely - Horváth Mihály tér 5.\, Budapest\, 1082\, Hungary
CATEGORIES:Kiállítás
ATTACH;FMTTYPE=image/jpeg:https://dajer.hu/wp-content/uploads/2026/04/Dash-Katami.jpg
ORGANIZER;CN="Dajer Alap%C3%ADtv%C3%A1ny a negyven feletti n%C5%91k t%C3%A1rsadalmi l%C3%A1that%C3%B3s%C3%A1g%C3%A1%C3%A9rt":MAILTO:info@dajer.hu
END:VEVENT
BEGIN:VEVENT
DTSTART;TZID=UTC:20260508T173000
DTEND;TZID=UTC:20260508T180000
DTSTAMP:20260421T110557
CREATED:20260414T191603Z
LAST-MODIFIED:20260414T191603Z
UID:11469-1778261400-1778263200@dajer.hu
SUMMARY:A vágy evolúciója workshop
DESCRIPTION:Honnan bújik elő és mivé formálja az idő? Mi az\, ami kifakul az évek alatt és mi az\, ami olyan méretűvé duzzad\, hogy átveszi felettünk az irányítást? Hogyan változik\, ahogy megéljük és hogyan változunk mi\, amikor megéljük?\n135 percben és 360 fokban járjuk körbe a vágyat és annak tárgyait. Lesz beszélgetés\, kollázs kártya\, utazás befelé és kérdések kifelé.\n \nMI FOG TÖRTÉNNI A WORKSHOPON\nA workshop első felében Péter Edit\, pszichológussal beszélgetünk arról\, hogy a vágy milyen utat jár be egy nő életében\, hány arca van és milyen kérdések segítenek megérteni önmagunkat mindeközben. Ezeket a gondolatokat aztán Kovács Andrea Kurszán kollázs kártyáival dolgozzuk fel\, irányított játékokkal\, úgy\, hogy a megszülető gondolatokkal\, ötletekkel\, történetekkel érzésekkel a résztvevők magukban is tovább tudjanak dolgozni.\n \nAKIK A WORKSHOPOT TARTJÁK\nPéter Edit\, pszichológusTöbbféle terápiás módszerrel dolgozik és kíséri a hozzá fordulókat évtizedek óta\, munkájában fontos szerepet kap a test és a lélek kapcsolata. Célja\, hogy a kliensei közelebb kerüljenek önmagukhoz és saját megoldásaikhoz.\n \nKovács Andrea Kurszán\, kollázsművész Szövegekkel 20 éve\, képekkel 11 éve dolgozik\, és ezekből állította össze SODÉ kollázs kártyáját\, ami elsősorban abban segít\, hogy egyedül vagy másokkal együtt új nézőpontokat találhasson a használója\, és ki tudjon lépni a megszokott gondolkodási keretekből.\nA részvétel adományalapú\, az adománnyal a DAJER Alapítványt támogatjátok.\nRegisztráció: https://tinyurl.com/avagyevolucioja\n \nIdőpont: Május 8. 17:00 – 19:30 Maximális létszám: 10 főHelyszín: DAJER Közösségi Műhely\, 1082 Budapest\, Horváth Mihály tér 5.\nAz eseményen fotó és videó felvétel készülhet (hanganyag nem készül).
URL:https://dajer.hu/event/a-vagy-evolucioja-workshop
LOCATION:Dajer Alapítvány – Dajer Közösségi Szellemi Műhely\, Dajer Alapítvány - Dajer Közösségi Szellemi Műhely - Horváth Mihály tér 5.\, Budapest\, 1082\, Hungary
CATEGORIES:Események
ATTACH;FMTTYPE=image/jpeg:https://dajer.hu/wp-content/uploads/2026/04/a-vagy-evolucioja.jpg
ORGANIZER;CN="Dajer Alap%C3%ADtv%C3%A1ny a negyven feletti n%C5%91k t%C3%A1rsadalmi l%C3%A1that%C3%B3s%C3%A1g%C3%A1%C3%A9rt":MAILTO:info@dajer.hu
END:VEVENT
BEGIN:VEVENT
DTSTART;TZID=UTC:20260509T120000
DTEND;TZID=UTC:20260509T140000
DTSTAMP:20260421T110557
CREATED:20260414T191846Z
LAST-MODIFIED:20260420T214018Z
UID:11472-1778328000-1778335200@dajer.hu
SUMMARY:“Cigány kislány ilyet nem csinál” – közösségi kutatás bemutatása
DESCRIPTION:2026. május 9.\, szombat 12:00-14:00\n„Cigány kislány ilyet nem csinál”\nA Romaversitas Alapítvány eseménye\nCím: 1082 Budapest\, Horváth Mihály tér 5.  \nA Mara-körök egy roma nőkre fókuszáló\, közösségi és tudásmegosztó folyamat\, amelynek célja a roma nők tapasztalatainak\, kutatásainak és önreprezentációjának erősítése\, különös tekintettel a szexuális és reprodukciós jogok kérdéskörére. A kiállítás az I. Nemzetközi Mara Fórum programja. \nFacebook esemény link: https://www.facebook.com/events/1641432437282441
URL:https://dajer.hu/event/romaverszitasz
LOCATION:Dajer Alapítvány – Dajer Közösségi Szellemi Műhely\, Dajer Alapítvány - Dajer Közösségi Szellemi Műhely - Horváth Mihály tér 5.\, Budapest\, 1082\, Hungary
CATEGORIES:Események
ATTACH;FMTTYPE=image/jpeg:https://dajer.hu/wp-content/uploads/2026/04/Mara.jpg
ORGANIZER;CN="Romaversitas Alap%C3%ADtv%C3%A1ny":MAILTO:romaversitas@romaversitas.hu
END:VEVENT
BEGIN:VEVENT
DTSTART;TZID=UTC:20260518T180000
DTEND;TZID=UTC:20260518T200000
DTSTAMP:20260421T110557
CREATED:20260414T192230Z
LAST-MODIFIED:20260414T192348Z
UID:11476-1779127200-1779134400@dajer.hu
SUMMARY:Varga Rita kiállítás megnyitó
DESCRIPTION:
URL:https://dajer.hu/event/varga-rita-kiallitas-megnyito
LOCATION:Dajer Alapítvány – Dajer Közösségi Szellemi Műhely\, Dajer Alapítvány - Dajer Közösségi Szellemi Műhely - Horváth Mihály tér 5.\, Budapest\, 1082\, Hungary
CATEGORIES:Kiállítás
ORGANIZER;CN="Dajer Alap%C3%ADtv%C3%A1ny a negyven feletti n%C5%91k t%C3%A1rsadalmi l%C3%A1that%C3%B3s%C3%A1g%C3%A1%C3%A9rt":MAILTO:info@dajer.hu
END:VEVENT
BEGIN:VEVENT
DTSTART;VALUE=DATE:20260523
DTEND;VALUE=DATE:20260524
DTSTAMP:20260421T110557
CREATED:20260414T192047Z
LAST-MODIFIED:20260414T192047Z
UID:11474-1779494400-1779580799@dajer.hu
SUMMARY:ROMAVERSZITÁSZ? Záró esemény
DESCRIPTION:
URL:https://dajer.hu/event/romaverszitasz-zaro-esemeny
ORGANIZER;CN="Dajer Alap%C3%ADtv%C3%A1ny a negyven feletti n%C5%91k t%C3%A1rsadalmi l%C3%A1that%C3%B3s%C3%A1g%C3%A1%C3%A9rt":MAILTO:info@dajer.hu
END:VEVENT
BEGIN:VEVENT
DTSTART;TZID=UTC:20260612T190000
DTEND;TZID=UTC:20260612T220000
DTSTAMP:20260421T110557
CREATED:20260414T192619Z
LAST-MODIFIED:20260414T192619Z
UID:11480-1781290800-1781301600@dajer.hu
SUMMARY:PRIDE: Takács Mari új filmjének vetítése
DESCRIPTION:
URL:https://dajer.hu/event/pride-takacs-mari-uj-filmjenek-vetitese
LOCATION:Dajer Alapítvány – Dajer Közösségi Szellemi Műhely\, Dajer Alapítvány - Dajer Közösségi Szellemi Műhely - Horváth Mihály tér 5.\, Budapest\, 1082\, Hungary
CATEGORIES:Események
ORGANIZER;CN="Dajer Alap%C3%ADtv%C3%A1ny a negyven feletti n%C5%91k t%C3%A1rsadalmi l%C3%A1that%C3%B3s%C3%A1g%C3%A1%C3%A9rt":MAILTO:info@dajer.hu
END:VEVENT
BEGIN:VEVENT
DTSTART;TZID=UTC:20260630T180000
DTEND;TZID=UTC:20260630T220000
DTSTAMP:20260421T110557
CREATED:20260414T192902Z
LAST-MODIFIED:20260414T192902Z
UID:11482-1782842400-1782856800@dajer.hu
SUMMARY:Varga Rita kiállítás finisszázs
DESCRIPTION:
URL:https://dajer.hu/event/varga-rita-kiallitas-finisszazs
LOCATION:Dajer Alapítvány – Dajer Közösségi Szellemi Műhely\, Dajer Alapítvány - Dajer Közösségi Szellemi Műhely - Horváth Mihály tér 5.\, Budapest\, 1082\, Hungary
CATEGORIES:Kiállítás
ORGANIZER;CN="Dajer Alap%C3%ADtv%C3%A1ny a negyven feletti n%C5%91k t%C3%A1rsadalmi l%C3%A1that%C3%B3s%C3%A1g%C3%A1%C3%A9rt":MAILTO:info@dajer.hu
END:VEVENT
END:VCALENDAR